BEGIN:VCALENDAR
VERSION:2.0
PRODID:-//Squarespace Inc/Squarespace 6//v6//EN
BEGIN:VEVENT
UID:5dd0a323d6c0de799e2c34b1@squarespace.com
DTSTAMP:20191117T014723Z
DTSTART:20200419T000000Z
DTEND:20200419T050000Z
SUMMARY:Valley Loves
GEO:-37.655735;145.380303
LOCATION:Armstrong Grove\, Yarra Glen\, VIC\, 3775\, Australia
END:VEVENT
END:VCALENDAR
